BEGIN:VCALENDAR
VERSION:2.0
PRODID:-//wp-events-plugin.com//7.2.3.1//EN
TZID:America/New_York
X-WR-TIMEZONE:America/New_York
BEGIN:VEVENT
UID:202@cndf.qc.ca
DTSTART;TZID=America/New_York:20231203T083000
DTEND;TZID=America/New_York:20231203T160000
DTSTAMP:20230911T182852Z
URL:https://www.cndf.qc.ca/events/essais-libres-cndf-decembre-2023/
SUMMARY:Essais libres du CNDF
DESCRIPTION:Les essais libres sont une pratique pour les tests d’évaluat
 ion et de classement pour entrer en Techniques policières\, en Soins pré
 hospitaliers d'urgence ou en Intervention en sécurité incendie (DEP). C'
 est une excellente activité de préparation puisque les exercices sont le
 s mêmes que ceux réalisés aux vrais tests qui se dérouleront quelques 
 mois plus tard. Pour plus de détails\, cliquez ici.
ATTACH;FMTTYPE=image/jpeg:https://www.cndf.qc.ca/wp-content/uploads/2023/0
 8/essais-libres-campus-notre-dame-de-foy-2022.jpg
CATEGORIES:Autres
END:VEVENT
BEGIN:VTIMEZONE
TZID:America/New_York
X-LIC-LOCATION:America/New_York
BEGIN:STANDARD
DTSTART:20231105T010000
TZOFFSETFROM:-0400
TZOFFSETTO:-0500
TZNAME:EST
END:STANDARD
END:VTIMEZONE
END:VCALENDAR