BEGIN:VCALENDAR
VERSION:2.0
PRODID:-//wp-events-plugin.com//7.2.3.1//EN
TZID:America/New_York
X-WR-TIMEZONE:America/New_York
BEGIN:VEVENT
UID:81@cndf.qc.ca
DTSTART;TZID=America/New_York;VALUE=DATE:20220511
DTEND;TZID=America/New_York;VALUE=DATE:20220512
DTSTAMP:20221114T144448Z
URL:https://www.cndf.qc.ca/events/evenement-mode-2022/
SUMMARY:Evénement mode 2022
DESCRIPTION:ÉM22\, est avant tout un Événement Mode\, organisé par l’
 École de mode du Campus-Notre-Dame-de-Foy. C’est une occasion unique de
  découvrir les créateurs et les gestionnaires de mode de demain et d’a
 pprécier leur savoir-faire.\n\nÉM22 est une étroite collaboration entre
  les départements de Design et de Commercialisation de la mode. Les étud
 iants de 3e année en design de mode et les étudiants de 2e année en com
 mercialisation de la mode mettent à profit leurs apprentissages\, leurs c
 onnaissances et leur créativité pour réaliser et organiser l’Événem
 ent Mode. Ils ont également pour objectif de mettre en lumière chacune d
 es collections des designers finissants en réalisant une installation dan
 s l’école et une activité de lancement pour chaque designer dans le ca
 dre de l’ÉM22.\n\nL’édition 2022 proposera donc un parcours immersif
  dans le Campus\, où les 12 collections des étudiants de 3e année seron
 t présentées au grand public dans le cadre de l’ÉM22\, soirée organi
 sée qui aura lieu\, le mercredi 11 mai 2022.\n\n&nbsp\;\n
ATTACH;FMTTYPE=image/jpeg:https://www.cndf.qc.ca/wp-content/uploads/2022/0
 3/logo_evenement_mode_2022.png
CATEGORIES:Événements majeurs du CNDF
LOCATION:Campus Notre-Dame-de-Foy\, 5000\, rue Clément-Lockquell\, Saint-A
 ugustin-de-Desmaures\, Québec\, G3A 1B3\, Québec\, Canada
X-APPLE-STRUCTURED-LOCATION;VALUE=URI;X-ADDRESS=5000\, rue Clément-Lockque
 ll\, Saint-Augustin-de-Desmaures\, Québec\, G3A 1B3\, Québec\, Canada;X-
 APPLE-RADIUS=100;X-TITLE=Campus Notre-Dame-de-Foy:geo:0,0
END:VEVENT
BEGIN:VTIMEZONE
TZID:America/New_York
X-LIC-LOCATION:America/New_York
BEGIN:DAYLIGHT
DTSTART:20220313T030000
TZOFFSETFROM:-0500
TZOFFSETTO:-0400
TZNAME:EDT
END:DAYLIGHT
END:VTIMEZONE
END:VCALENDAR