BEGIN:VCALENDAR
VERSION:2.0
PRODID:-//wp-events-plugin.com//7.2.3.1//EN
TZID:America/New_York
X-WR-TIMEZONE:America/New_York
BEGIN:VEVENT
UID:152@cndf.qc.ca
DTSTART;TZID=America/New_York;VALUE=DATE:20230518
DTEND;TZID=America/New_York;VALUE=DATE:20230519
DTSTAMP:20230504T192453Z
URL:https://www.cndf.qc.ca/events/evenement-mode-2023/
SUMMARY:ÉM23 - l'Événement Mode 2023
DESCRIPTION:L’ÉM23 est l’organisation d’un Événement Mode au conce
 pt original créé\, organisé et dirigé par les étudiants de Commercial
 isation de la mode dans le but de présenter les collections des finissant
 s en Design de mode.\n\n\n
ATTACH;FMTTYPE=image/jpeg:https://www.cndf.qc.ca/wp-content/uploads/2022/0
 6/em23-entete-web-2.jpg
CATEGORIES:Événements majeurs du CNDF
END:VEVENT
BEGIN:VTIMEZONE
TZID:America/New_York
X-LIC-LOCATION:America/New_York
BEGIN:DAYLIGHT
DTSTART:20230312T030000
TZOFFSETFROM:-0500
TZOFFSETTO:-0400
TZNAME:EDT
END:DAYLIGHT
END:VTIMEZONE
END:VCALENDAR