BEGIN:VCALENDAR
VERSION:2.0
PRODID:-//wp-events-plugin.com//7.2.3.1//EN
TZID:America/New_York
X-WR-TIMEZONE:America/New_York
BEGIN:VEVENT
UID:201@cndf.qc.ca
DTSTART;TZID=America/New_York;VALUE=DATE:20240509
DTEND;TZID=America/New_York;VALUE=DATE:20240510
DTSTAMP:20240412T162046Z
URL:https://www.cndf.qc.ca/events/evenement-mode-cndf-2024/
SUMMARY:ÉM24 - l'Événement Mode 2024
DESCRIPTION:ÉM24\, est avant tout un Événement Mode\, organisé par l’
 École de mode du Campus-Notre-Dame-de-Foy. C’est une occasion unique de
  découvrir les créateurs et les gestionnaires de mode de demain et d’a
 pprécier leur savoir-faire.\n\nÉM24 est une étroite collaboration entre
  les départements de Design et de Commercialisation de la mode. Les étud
 iants de 3e année en design de mode et les étudiants de 2e année en com
 mercialisation de la mode mettent à profit leurs apprentissages\, leurs c
 onnaissances et leur créativité pour réaliser et organiser l’Événem
 ent Mode. Ils ont pour objectif de mettre en lumière chacune des collecti
 ons des designers finissants en réalisant une exposition de leur collecti
 on et un défilé de mode dans le pavillon Central du CNDF.\n\nL’éditio
 n 2024 vous permettra de participer au dévoilement des 14 collections des
  étudiants finissants en design de mode ce jeudi 9 mai à partir de 17h.\
 n\n
ATTACH;FMTTYPE=image/jpeg:https://www.cndf.qc.ca/wp-content/uploads/2023/0
 8/banniere-calendrier-em24.png
CATEGORIES:Événements majeurs du CNDF
END:VEVENT
BEGIN:VTIMEZONE
TZID:America/New_York
X-LIC-LOCATION:America/New_York
BEGIN:DAYLIGHT
DTSTART:20240310T030000
TZOFFSETFROM:-0500
TZOFFSETTO:-0400
TZNAME:EDT
END:DAYLIGHT
END:VTIMEZONE
END:VCALENDAR