BEGIN:VCALENDAR
VERSION:2.0
PRODID:-//wp-events-plugin.com//7.2.3.1//EN
TZID:America/New_York
X-WR-TIMEZONE:America/New_York
BEGIN:VEVENT
UID:231@cndf.qc.ca
DTSTART;TZID=America/New_York:20231021T090000
DTEND;TZID=America/New_York:20231021T120000
DTSTAMP:20231010T143811Z
URL:https://www.cndf.qc.ca/events/events-activite-decouverte-techniques-ed
 ucation-enfance/
SUMMARY:Matinée découverte - Techniques d'éducation à l'enfance
DESCRIPTION:Tu as un intérêt pour étudier en Techniques d'éducation à 
 l’enfance? Comme on le sait que choisir une profession n’est pas toujo
 urs une tâche facile\, on t’invite à une activité découverte sur le 
 Campus le samedi 21 octobre prochain.\n\nSi tu te demandes pourquoi ça va
 ut la peine de te déplacer un samedi matin\, sache que c’est une opport
 unité unique de venir nous visiter dans une ambiance plus calme et moins 
 formelle que lors des portes ouvertes\, par exemple\, où notre personnel 
 doit accommoder plusieurs groupes d’étudiants pendant la journée. Si t
 u participes à cette matinée\, tu auras aussi le privilège de faire ta 
 demande d’admission gratuitement!\n\nHoraire de l’activité :\n\n 	Pou
 r commencer\, les enseignantes du DEC en Techniques d’éducation à l’
 enfance te présenteront le programme et la nouvelle formule Apprentissage
  en milieu de travail (AMT). Une présentation du Campus te sera aussi fai
 te avec toutes les informations importantes à savoir avant de s’inscrir
 e (services offerts\, bourses\, frais de scolarité\, résidences\, etc.).
 \n 	Tu pourras ensuite rencontrer la directrice et une éducatrice du CPE 
 Les Grenouilles qui t’expliqueront les possibilités de carrière dans l
 e domaine. Les étudiantes actuelles du programme viendront également te 
 raconter leur expérience dans les milieux de garde.\n 	Si la température
  le permet\, tu pourras expérimenter la pédagogie en nature lors d’un 
 défi d’exploration qui aura lieu dans les sentiers à proximité du Cam
 pus. On ne veut pas t’en dire plus que ça pour ne pas gâcher la surpri
 se\, mais ce sera l'occasion pour toi d’apprendre à connaître tes pote
 ntiels camarades de classe.\n 	Tu pourras finalement faire une visite d’
 une garderie\, ainsi que du pavillon où seront donnés les cours et\, si 
 ça t’intéresse\, des résidences. L’activité devrait donc se termin
 er vers midi.\n\nAutres informations :\n\n 	Tes parents sont les bienvenus
  à se joindre à la rencontre d’information de 9h à 10h.\n 	Pour ceux 
 qui prévoient se déplacer en voiture\, il sera possible de se stationner
  gratuitement dans n'importe quelle zone de stationnement.\n 	Une personne
  sera présente pour t’accueillir à la réception du pavillon Central l
 e jour de l’activité.\n\nInscris-toi!
ATTACH;FMTTYPE=image/jpeg:https://www.cndf.qc.ca/wp-content/uploads/2023/1
 0/activite-decouverte-education-a-l’enfance.png
CATEGORIES:Autres
LOCATION:Campus Notre-Dame-de-Foy\, 5000\, rue Clément-Lockquell\, Saint-A
 ugustin-de-Desmaures\, Québec\, G3A 1B3\, Québec\, Canada
X-APPLE-STRUCTURED-LOCATION;VALUE=URI;X-ADDRESS=5000\, rue Clément-Lockque
 ll\, Saint-Augustin-de-Desmaures\, Québec\, G3A 1B3\, Québec\, Canada;X-
 APPLE-RADIUS=100;X-TITLE=Campus Notre-Dame-de-Foy:geo:0,0
END:VEVENT
BEGIN:VTIMEZONE
TZID:America/New_York
X-LIC-LOCATION:America/New_York
BEGIN:DAYLIGHT
DTSTART:20230312T030000
TZOFFSETFROM:-0500
TZOFFSETTO:-0400
TZNAME:EDT
END:DAYLIGHT
END:VTIMEZONE
END:VCALENDAR