BEGIN:VCALENDAR
VERSION:2.0
PRODID:-//wp-events-plugin.com//7.2.3.1//EN
TZID:America/New_York
X-WR-TIMEZONE:America/New_York
BEGIN:VEVENT
UID:151@cndf.qc.ca
DTSTART;TZID=America/New_York:20221118T190000
DTEND;TZID=America/New_York:20221118T230000
DTSTAMP:20221117T172454Z
URL:https://www.cndf.qc.ca/events/finale-du-bol-dor/
SUMMARY:Finale du Bol d’or
DESCRIPTION:Le Notre-Dame se dirigera ce vendredi 18 novembre à Thetford M
 ines pour la grande finale du Bol d’or. L’équipe affrontera les Titan
 s du Cégep de Limouilou. C’est un événement à ne pas manquer!\n\nAch
 at de billets
ATTACH;FMTTYPE=image/jpeg:https://www.cndf.qc.ca/wp-content/uploads/2021/0
 8/calendrier_limoilou_vs_cndf.png
CATEGORIES:Autres,Football,Sports
LOCATION:Cégep de Thetford\, 671\, boulevard Frontenac uuest\, Thetford Mi
 nes\, Québec\, G6G 1N1\, Québec\, Canada
X-APPLE-STRUCTURED-LOCATION;VALUE=URI;X-ADDRESS=671\, boulevard Frontenac u
 uest\, Thetford Mines\, Québec\, G6G 1N1\, Québec\, Canada;X-APPLE-RADIU
 S=100;X-TITLE=Cégep de Thetford:geo:0,0
END:VEVENT
BEGIN:VTIMEZONE
TZID:America/New_York
X-LIC-LOCATION:America/New_York
BEGIN:STANDARD
DTSTART:20221106T010000
TZOFFSETFROM:-0400
TZOFFSETTO:-0500
TZNAME:EST
END:STANDARD
END:VTIMEZONE
END:VCALENDAR