BEGIN:VCALENDAR
VERSION:2.0
PRODID:-//wp-events-plugin.com//7.2.3.1//EN
TZID:America/New_York
X-WR-TIMEZONE:America/New_York
BEGIN:VEVENT
UID:200@cndf.qc.ca
DTSTART;TZID=America/New_York:20240208T190000
DTEND;TZID=America/New_York:20240208T220000
DTSTAMP:20230911T183615Z
URL:https://www.cndf.qc.ca/events/finale-locale-cegeps-en-spectacle-2024/
SUMMARY:Finale locale - Cégeps en spectacle
DESCRIPTION:\n\n\n\nChaque année\, le Campus Notre-Dame-de-Foy offre la po
 ssibilité aux étudiants qui souhaitent briller\, de déployer leur talen
 t sur la scène de l’auditorium Jean-Pierre-Tremblay. Une multitude d’
 artistes proposent chanson\, danse\, théâtre\, humour et bien plus! Les 
 prestations artistiques sont évaluées par un jury soumis aux critères s
 uivants :\n\n 	Originalité (30 %)\n 	Présence sur scène (30 %)\n 	Talen
 t (40 %)\n\n\n\n
ATTACH;FMTTYPE=image/jpeg:https://www.cndf.qc.ca/wp-content/uploads/2023/0
 8/cegeps-spectacle-2023-j-rodier-scaled.jpg
CATEGORIES:Arts de la scène,Spectacles
LOCATION:Auditorium Jean-Pierre-Tremblay\, 5000\, rue Clément-Lockquell\, 
 Saint-Augustin-de-Desmaures\, Québec\, G3A 1B3\, Canada
X-APPLE-STRUCTURED-LOCATION;VALUE=URI;X-ADDRESS=5000\, rue Clément-Lockque
 ll\, Saint-Augustin-de-Desmaures\, Québec\, G3A 1B3\, Canada;X-APPLE-RADI
 US=100;X-TITLE=Auditorium Jean-Pierre-Tremblay:geo:0,0
END:VEVENT
BEGIN:VTIMEZONE
TZID:America/New_York
X-LIC-LOCATION:America/New_York
BEGIN:STANDARD
DTSTART:20231105T010000
TZOFFSETFROM:-0400
TZOFFSETTO:-0500
TZNAME:EST
END:STANDARD
END:VTIMEZONE
END:VCALENDAR