BEGIN:VCALENDAR
VERSION:2.0
PRODID:-//wp-events-plugin.com//7.2.3.1//EN
TZID:America/New_York
X-WR-TIMEZONE:America/New_York
BEGIN:VEVENT
UID:110@cndf.qc.ca
DTSTART;TZID=America/New_York:20230209T190000
DTEND;TZID=America/New_York:20230209T220000
DTSTAMP:20230112T140020Z
URL:https://www.cndf.qc.ca/events/finale-locale-cegeps-spectacle-2023/
SUMMARY:Finale locale - Cégeps en spectacle
DESCRIPTION:\n\n\n\nChaque année\, le CNDF offre la possibilité aux étud
 iants qui souhaitent briller\, de déployer leur talent sur la scène de l
 ’auditorium Jean-Pierre-Tremblay. Une multitude d’artistes proposent c
 hanson\, danse\, théâtre\, humour et bien plus!\n\nLes prestations artis
 tiques sont évaluées par un jury soumis aux critères suivants :\n\n 	Or
 iginalité (30 %)\n 	Présence sur scène (30 %)\n 	Talent (40 %)\n\nLes b
 illets sont en vente dès maintenant. Le coût est de 10$ en prévente et 
 de 15$ à la porte le soir du spectacle.\n\n\n\n\n\n
ATTACH;FMTTYPE=image/jpeg:https://www.cndf.qc.ca/wp-content/uploads/2022/0
 9/cegeps-en-spectacle-cndf-2.jpg
CATEGORIES:Arts de la scène,Spectacles
LOCATION:Auditorium Jean-Pierre-Tremblay\, 5000\, rue Clément-Lockquell\, 
 Saint-Augustin-de-Desmaures\, Québec\, G3A 1B3\, Canada
X-APPLE-STRUCTURED-LOCATION;VALUE=URI;X-ADDRESS=5000\, rue Clément-Lockque
 ll\, Saint-Augustin-de-Desmaures\, Québec\, G3A 1B3\, Canada;X-APPLE-RADI
 US=100;X-TITLE=Auditorium Jean-Pierre-Tremblay:geo:0,0
END:VEVENT
BEGIN:VTIMEZONE
TZID:America/New_York
X-LIC-LOCATION:America/New_York
BEGIN:STANDARD
DTSTART:20221106T010000
TZOFFSETFROM:-0400
TZOFFSETTO:-0500
TZNAME:EST
END:STANDARD
END:VTIMEZONE
END:VCALENDAR