BEGIN:VCALENDAR
VERSION:2.0
PRODID:-//wp-events-plugin.com//7.2.3.1//EN
TZID:America/New_York
X-WR-TIMEZONE:America/New_York
BEGIN:VEVENT
UID:340@cndf.qc.ca
DTSTART;TZID=America/New_York:20250206T190000
DTEND;TZID=America/New_York:20250206T190000
DTSTAMP:20250128T213231Z
URL:https://www.cndf.qc.ca/events/finale-locale-cegeps-spectacle-2025/
SUMMARY:Finale locale de Cégeps en spectacle
DESCRIPTION:La finale locale de Cégeps en spectacle aura lieu le 6 févrie
 r à l’Auditorium Jean-Pierre-Tremblay\, à 19h. Les billets pour l'év
 énement sont disponibles en ligne dès maintenant. Venez admirer le talen
 t de nos étudiants!
ATTACH;FMTTYPE=image/jpeg:https://www.cndf.qc.ca/wp-content/uploads/2025/0
 1/visuel-horizontal-ces-locale-copie.jpg
CATEGORIES:Arts de la scène,Spectacles
LOCATION:Auditorium Jean-Pierre-Tremblay\, 5000\, rue Clément-Lockquell\, 
 Saint-Augustin-de-Desmaures\, Québec\, G3A 1B3\, Canada
X-APPLE-STRUCTURED-LOCATION;VALUE=URI;X-ADDRESS=5000\, rue Clément-Lockque
 ll\, Saint-Augustin-de-Desmaures\, Québec\, G3A 1B3\, Canada;X-APPLE-RADI
 US=100;X-TITLE=Auditorium Jean-Pierre-Tremblay:geo:0,0
END:VEVENT
BEGIN:VTIMEZONE
TZID:America/New_York
X-LIC-LOCATION:America/New_York
BEGIN:STANDARD
DTSTART:20241103T010000
TZOFFSETFROM:-0400
TZOFFSETTO:-0500
TZNAME:EST
END:STANDARD
END:VTIMEZONE
END:VCALENDAR