BEGIN:VCALENDAR
VERSION:2.0
PRODID:-//wp-events-plugin.com//7.2.3.1//EN
TZID:America/New_York
X-WR-TIMEZONE:America/New_York
BEGIN:VEVENT
UID:22@cndf.qc.ca
DTSTART;TZID=America/New_York:20220127T000000
DTEND;TZID=America/New_York:20220127T000000
DTSTAMP:20210921T195205Z
URL:https://www.cndf.qc.ca/events/finale-locale-cegeps-spectacle/
SUMMARY:Finale locale - Cégeps en spectacle
DESCRIPTION:Chaque année\, le CNDF offre la possibilité aux étudiants qu
 i souhaitent briller\, de déployer leur talent sur la scène de l’audit
 orium Jean-Pierre-Tremblay. Une multitude d’artistes proposent chanson\,
  danse\, théâtre\, humour et bien plus!
ATTACH;FMTTYPE=image/jpeg:https://www.cndf.qc.ca/wp-content/uploads/2021/0
 9/cegep_en_spectacle_locale.png
CATEGORIES:Arts de la scène
LOCATION:Auditorium Jean-Pierre-Tremblay\, 5000\, rue Clément-Lockquell\, 
 Saint-Augustin-de-Desmaures\, Québec\, G3A 1B3\, Canada
X-APPLE-STRUCTURED-LOCATION;VALUE=URI;X-ADDRESS=5000\, rue Clément-Lockque
 ll\, Saint-Augustin-de-Desmaures\, Québec\, G3A 1B3\, Canada;X-APPLE-RADI
 US=100;X-TITLE=Auditorium Jean-Pierre-Tremblay:geo:0,0
END:VEVENT
BEGIN:VTIMEZONE
TZID:America/New_York
X-LIC-LOCATION:America/New_York
BEGIN:STANDARD
DTSTART:20211107T010000
TZOFFSETFROM:-0400
TZOFFSETTO:-0500
TZNAME:EST
END:STANDARD
END:VTIMEZONE
END:VCALENDAR