BEGIN:VCALENDAR
VERSION:2.0
PRODID:-//wp-events-plugin.com//7.2.3.1//EN
TZID:America/New_York
X-WR-TIMEZONE:America/New_York
BEGIN:VEVENT
UID:337@cndf.qc.ca
DTSTART;TZID=America/New_York:20241109T130000
DTEND;TZID=America/New_York:20241109T160000
DTSTAMP:20241105T010859Z
URL:https://www.cndf.qc.ca/events/football-college-vanier-notre-dame-demi-
 finale-2024/
SUMMARY:Demi-finale au CNDF : Collège Vanier c. Notre-Dame
DESCRIPTION:Match de demi-finale des séries contre les Cheetahs du Collèg
 e Vanier.\n
ATTACH;FMTTYPE=image/jpeg:https://www.cndf.qc.ca/wp-content/uploads/2022/1
 0/calendrier_college_vanier_vs_cndf-1320x564-1.png
CATEGORIES:Événements majeurs du CNDF,Football,Sports
LOCATION:Campus Notre-Dame-de-Foy (stade des Anciens)\, 5000\, rue Clément
 -Lockquell\, Saint-Augustin-de-Desmaures\, Québec\, G3A 1B3\, Canada
X-APPLE-STRUCTURED-LOCATION;VALUE=URI;X-ADDRESS=5000\, rue Clément-Lockque
 ll\, Saint-Augustin-de-Desmaures\, Québec\, G3A 1B3\, Canada;X-APPLE-RADI
 US=100;X-TITLE=Campus Notre-Dame-de-Foy (stade des Anciens):geo:0,0
END:VEVENT
BEGIN:VTIMEZONE
TZID:America/New_York
X-LIC-LOCATION:America/New_York
BEGIN:STANDARD
DTSTART:20241103T010000
TZOFFSETFROM:-0400
TZOFFSETTO:-0500
TZNAME:EST
END:STANDARD
END:VTIMEZONE
END:VCALENDAR