BEGIN:VCALENDAR
VERSION:2.0
PRODID:-//wp-events-plugin.com//7.2.3.1//EN
TZID:America/New_York
X-WR-TIMEZONE:America/New_York
BEGIN:VEVENT
UID:91@cndf.qc.ca
DTSTART;TZID=America/Toronto:20221021T193000
DTEND;TZID=America/Toronto:20221021T220000
DTSTAMP:20220819T200550Z
URL:https://www.cndf.qc.ca/events/football-garneau-notre-dame-2022/
SUMMARY:Garneau à Notre-Dame
DESCRIPTION:Huitième et avant-dernier match de la saison 2022 de football 
 collégial (division 1). Dernière partie présentée au Stades Anciens av
 ant les séries\, ce sera l'occasion pour le Notre-Dame de rendre hommage 
 aux finissants 2022.\n\nLes spectateurs pourront accéder aux estrades à 
 partir de 18h30.\n\n\n\n
ATTACH;FMTTYPE=image/jpeg:https://www.cndf.qc.ca/wp-content/uploads/2021/0
 8/calendrier_garneau_vs_cndf.png
CATEGORIES:Football,Sports
LOCATION:Campus Notre-Dame-de-Foy (stade des Anciens)\, 5000\, rue Clément
 -Lockquell\, Saint-Augustin-de-Desmaures\, Québec\, G3A 1B3\, Canada
X-APPLE-STRUCTURED-LOCATION;VALUE=URI;X-ADDRESS=5000\, rue Clément-Lockque
 ll\, Saint-Augustin-de-Desmaures\, Québec\, G3A 1B3\, Canada;X-APPLE-RADI
 US=100;X-TITLE=Campus Notre-Dame-de-Foy (stade des Anciens):geo:0,0
END:VEVENT
BEGIN:VTIMEZONE
TZID:America/Toronto
X-LIC-LOCATION:America/Toronto
BEGIN:DAYLIGHT
DTSTART:20220313T030000
TZOFFSETFROM:-0500
TZOFFSETTO:-0400
TZNAME:EDT
END:DAYLIGHT
END:VTIMEZONE
END:VCALENDAR