BEGIN:VCALENDAR
VERSION:2.0
PRODID:-//wp-events-plugin.com//7.2.3.1//EN
TZID:America/New_York
X-WR-TIMEZONE:America/New_York
BEGIN:VEVENT
UID:89@cndf.qc.ca
DTSTART;TZID=America/Toronto:20220917T193000
DTEND;TZID=America/Toronto:20220917T220000
DTSTAMP:20220819T200424Z
URL:https://www.cndf.qc.ca/events/football-lennoxville-notre-dame-2022/
SUMMARY:Lennoxville à Notre-Dame
DESCRIPTION:Quatrième match de la saison 2022 de football collégial (divi
 sion 1).\n\nCe deuxième match à domicile de la saison\, est une présent
 ation de notre partenaire Brindamour Ventilation DR.\n\nLes spectateurs po
 urront accéder aux estrades à partir de 18h30.\n\n
ATTACH;FMTTYPE=image/jpeg:https://www.cndf.qc.ca/wp-content/uploads/2025/0
 8/calendrier_lennoxville_vs_cndf-1320x564-1.png
CATEGORIES:Football,Sports
LOCATION:Campus Notre-Dame-de-Foy (stade des Anciens)\, 5000\, rue Clément
 -Lockquell\, Saint-Augustin-de-Desmaures\, Québec\, G3A 1B3\, Canada
X-APPLE-STRUCTURED-LOCATION;VALUE=URI;X-ADDRESS=5000\, rue Clément-Lockque
 ll\, Saint-Augustin-de-Desmaures\, Québec\, G3A 1B3\, Canada;X-APPLE-RADI
 US=100;X-TITLE=Campus Notre-Dame-de-Foy (stade des Anciens):geo:0,0
END:VEVENT
BEGIN:VTIMEZONE
TZID:America/Toronto
X-LIC-LOCATION:America/Toronto
BEGIN:DAYLIGHT
DTSTART:20220313T030000
TZOFFSETFROM:-0500
TZOFFSETTO:-0400
TZNAME:EDT
END:DAYLIGHT
END:VTIMEZONE
END:VCALENDAR