BEGIN:VCALENDAR
VERSION:2.0
PRODID:-//wp-events-plugin.com//7.2.3.1//EN
TZID:America/New_York
X-WR-TIMEZONE:America/New_York
BEGIN:VEVENT
UID:93@cndf.qc.ca
DTSTART;TZID=America/New_York:20221001T130000
DTEND;TZID=America/New_York:20221001T150000
DTSTAMP:20220714T183644Z
URL:https://www.cndf.qc.ca/events/football-notre-dame-andre-grasset-2022/
SUMMARY:Notre-Dame à André-Grasset
DESCRIPTION:Sixième match de la saison 2022 de football collégial (divisi
 on 1)
ATTACH;FMTTYPE=image/jpeg:https://www.cndf.qc.ca/wp-content/uploads/2022/0
 7/calendrier_cndf_vs_andre-grasset.png
CATEGORIES:Football,Sports
LOCATION:Complexe sportif Claude-Rémillard\, 1000\, avenue Émile-Journaul
 t\, Montréal\, Québec\, H2M 2E7\, Canada
X-APPLE-STRUCTURED-LOCATION;VALUE=URI;X-ADDRESS=1000\, avenue Émile-Journa
 ult\, Montréal\, Québec\, H2M 2E7\, Canada;X-APPLE-RADIUS=100;X-TITLE=Co
 mplexe sportif Claude-Rémillard:geo:0,0
END:VEVENT
BEGIN:VTIMEZONE
TZID:America/New_York
X-LIC-LOCATION:America/New_York
BEGIN:DAYLIGHT
DTSTART:20220313T030000
TZOFFSETFROM:-0500
TZOFFSETTO:-0400
TZNAME:EDT
END:DAYLIGHT
END:VTIMEZONE
END:VCALENDAR