BEGIN:VCALENDAR
VERSION:2.0
PRODID:-//wp-events-plugin.com//7.2.3.1//EN
TZID:America/New_York
X-WR-TIMEZONE:America/New_York
BEGIN:VEVENT
UID:88@cndf.qc.ca
DTSTART;TZID=America/New_York:20220909T193000
DTEND;TZID=America/New_York:20220909T213000
DTSTAMP:20220714T164718Z
URL:https://www.cndf.qc.ca/events/football-notre-dame-levis-lauzon-2022/
SUMMARY:Notre-Dame à Lévis-Lauzon
DESCRIPTION:Troisième match de la saison 2022 de football collégial (divi
 sion 1).
ATTACH;FMTTYPE=image/jpeg:https://www.cndf.qc.ca/wp-content/uploads/2021/0
 8/calendrier_cndf_vs_levis.png
CATEGORIES:Football,Sports
LOCATION:Cégep de Lévis\, 205\, route Monseigneur-Bourget\, Lévis\, Qué
 bec\, G6V 6Z9\, Canada
X-APPLE-STRUCTURED-LOCATION;VALUE=URI;X-ADDRESS=205\, route Monseigneur-Bou
 rget\, Lévis\, Québec\, G6V 6Z9\, Canada;X-APPLE-RADIUS=100;X-TITLE=Cég
 ep de Lévis:geo:0,0
END:VEVENT
BEGIN:VTIMEZONE
TZID:America/New_York
X-LIC-LOCATION:America/New_York
BEGIN:DAYLIGHT
DTSTART:20220313T030000
TZOFFSETFROM:-0500
TZOFFSETTO:-0400
TZNAME:EDT
END:DAYLIGHT
END:VTIMEZONE
END:VCALENDAR