BEGIN:VCALENDAR
VERSION:2.0
PRODID:-//wp-events-plugin.com//7.2.3.1//EN
TZID:America/New_York
X-WR-TIMEZONE:America/New_York
BEGIN:VEVENT
UID:94@cndf.qc.ca
DTSTART;TZID=America/New_York:20220827T130000
DTEND;TZID=America/New_York:20220827T150000
DTSTAMP:20220714T183432Z
URL:https://www.cndf.qc.ca/events/football-notre-dame-lionel-groulx-2022/
SUMMARY:Notre-Dame à Lionel-Groulx
DESCRIPTION:Premier match de la saison 2022 de football collégial (divisio
 n 1).
ATTACH;FMTTYPE=image/jpeg:https://www.cndf.qc.ca/wp-content/uploads/2022/0
 7/calendrier_cndf_vs_lionel-groulx.png
CATEGORIES:Football,Sports
LOCATION:Parc Ducharme\, boul. Ducharme\, Sainte-Thérèse\, Québec\, J7E 
 5R4\, Canada
X-APPLE-STRUCTURED-LOCATION;VALUE=URI;X-ADDRESS=boul. Ducharme\, Sainte-Th
 érèse\, Québec\, J7E 5R4\, Canada;X-APPLE-RADIUS=100;X-TITLE=Parc Ducha
 rme:geo:0,0
END:VEVENT
BEGIN:VTIMEZONE
TZID:America/New_York
X-LIC-LOCATION:America/New_York
BEGIN:DAYLIGHT
DTSTART:20220313T030000
TZOFFSETFROM:-0500
TZOFFSETTO:-0400
TZNAME:EDT
END:DAYLIGHT
END:VTIMEZONE
END:VCALENDAR