BEGIN:VCALENDAR
VERSION:2.0
PRODID:-//wp-events-plugin.com//7.2.3.1//EN
TZID:America/New_York
X-WR-TIMEZONE:America/New_York
BEGIN:VEVENT
UID:92@cndf.qc.ca
DTSTART;TZID=America/New_York:20220924T193000
DTEND;TZID=America/New_York:20220924T213000
DTSTAMP:20220714T183545Z
URL:https://www.cndf.qc.ca/events/football-notre-dame-vieux-montreal-2022/
SUMMARY:Notre-Dame à Vieux-Montréal
DESCRIPTION:Cinquième match de la saison 2022 de football collégial (divi
 sion 1)
ATTACH;FMTTYPE=image/jpeg:https://www.cndf.qc.ca/wp-content/uploads/2022/0
 7/calendrier_cndf_vs_vieux-montreal.png
CATEGORIES:Football,Sports
LOCATION:Collège Notre-Dame\, 3791\, chemin Queen Mary\, Montréal\, Québ
 ec\, H3V 1A8\, Canada
X-APPLE-STRUCTURED-LOCATION;VALUE=URI;X-ADDRESS=3791\, chemin Queen Mary\, 
 Montréal\, Québec\, H3V 1A8\, Canada;X-APPLE-RADIUS=100;X-TITLE=Collège
  Notre-Dame:geo:0,0
END:VEVENT
BEGIN:VTIMEZONE
TZID:America/New_York
X-LIC-LOCATION:America/New_York
BEGIN:DAYLIGHT
DTSTART:20220313T030000
TZOFFSETFROM:-0500
TZOFFSETTO:-0400
TZNAME:EDT
END:DAYLIGHT
END:VTIMEZONE
END:VCALENDAR