BEGIN:VCALENDAR
VERSION:2.0
PRODID:-//wp-events-plugin.com//7.2.3.1//EN
TZID:America/New_York
X-WR-TIMEZONE:America/New_York
BEGIN:VEVENT
UID:3@cndf.qc.ca
DTSTART;TZID=America/Toronto:20210925T193000
DTEND;TZID=America/Toronto:20210925T213000
DTSTAMP:20210826T192348Z
URL:https://www.cndf.qc.ca/events/football_garneau_cndf_25septembre2021/
SUMMARY:Garneau à Notre-Dame
DESCRIPTION:Football
ATTACH;FMTTYPE=image/jpeg:https://www.cndf.qc.ca/wp-content/uploads/2021/0
 8/calendrier_garneau_vs_cndf.png
CATEGORIES:Football,Sports
END:VEVENT
BEGIN:VTIMEZONE
TZID:America/Toronto
X-LIC-LOCATION:America/Toronto
BEGIN:DAYLIGHT
DTSTART:20210314T030000
TZOFFSETFROM:-0500
TZOFFSETTO:-0400
TZNAME:EDT
END:DAYLIGHT
END:VTIMEZONE
END:VCALENDAR