BEGIN:VCALENDAR
VERSION:2.0
PRODID:-//wp-events-plugin.com//7.2.3.1//EN
TZID:America/New_York
X-WR-TIMEZONE:America/New_York
BEGIN:VEVENT
UID:7@cndf.qc.ca
DTSTART:20211023T180000Z
DTEND:20211023T200000Z
DTSTAMP:20211022T160619Z
URL:https://www.cndf.qc.ca/events/football_limoilou_cndf_23octobre2021/
SUMMARY:Notre-Dame à Limoilou
DESCRIPTION:Avant-dernier match de football de la saison. Un match crucial 
 pour la troupe de Marc-André Dion.
ATTACH;FMTTYPE=image/jpeg:https://www.cndf.qc.ca/wp-content/uploads/2021/0
 8/calendrier_cndf_vs_limoilou.png
CATEGORIES:Football,Sports
LOCATION:Cégep Limoilou\, 1300 8ème Avenue\, Québec \, G1J 5L5\, Canada
X-APPLE-STRUCTURED-LOCATION;VALUE=URI;X-ADDRESS=1300 8ème Avenue\, Québec
  \, G1J 5L5\, Canada;X-APPLE-RADIUS=100;X-TITLE=Cégep Limoilou:geo:0,0
END:VEVENT
END:VCALENDAR