BEGIN:VCALENDAR
VERSION:2.0
PRODID:-//wp-events-plugin.com//7.2.3.1//EN
TZID:America/New_York
X-WR-TIMEZONE:America/New_York
BEGIN:VEVENT
UID:195@cndf.qc.ca
DTSTART;TZID=America/New_York:20240411T190000
DTEND;TZID=America/New_York:20240411T203000
DTSTAMP:20240409T200350Z
URL:https://www.cndf.qc.ca/events/gala-meritas-2024-fondation-cndf/
SUMMARY:Gala Méritas 2024\, une présentation de la Fondation du CNDF
DESCRIPTION:Le Gala Méritas 2024 est une présentation de la Fondation du 
 CNDF. Au cours de cette soirée\, de nombreux prix en argent seront remis.
  Plus de détails à venir.
ATTACH;FMTTYPE=image/jpeg:https://www.cndf.qc.ca/wp-content/uploads/2023/0
 8/galameritas_2024_rectangle2.jpg
CATEGORIES:Événements majeurs du CNDF
LOCATION:Auditorium Jean-Pierre-Tremblay\, 5000\, rue Clément-Lockquell\, 
 Saint-Augustin-de-Desmaures\, Québec\, G3A 1B3\, Canada
X-APPLE-STRUCTURED-LOCATION;VALUE=URI;X-ADDRESS=5000\, rue Clément-Lockque
 ll\, Saint-Augustin-de-Desmaures\, Québec\, G3A 1B3\, Canada;X-APPLE-RADI
 US=100;X-TITLE=Auditorium Jean-Pierre-Tremblay:geo:0,0
END:VEVENT
BEGIN:VTIMEZONE
TZID:America/New_York
X-LIC-LOCATION:America/New_York
BEGIN:DAYLIGHT
DTSTART:20240310T030000
TZOFFSETFROM:-0500
TZOFFSETTO:-0400
TZNAME:EDT
END:DAYLIGHT
END:VTIMEZONE
END:VCALENDAR