BEGIN:VCALENDAR
VERSION:2.0
PRODID:-//wp-events-plugin.com//7.2.3.1//EN
TZID:America/New_York
X-WR-TIMEZONE:America/New_York
BEGIN:VEVENT
UID:66@cndf.qc.ca
DTSTART;TZID=America/New_York:20220406T000000
DTEND;TZID=America/New_York:20220406T000000
DTSTAMP:20220401T162956Z
URL:https://www.cndf.qc.ca/events/gala-meritas-presentation-fondation-cndf
 /
SUMMARY:Gala Méritas\, une présentation de la Fondation du CNDF
DESCRIPTION:De nombreux prix en argent seront remis au cours de la soirée 
 par le Campus Notre-Dame-de-Foy.\n\nRéservez votre soirée. Plus de déta
 ils à venir.
ATTACH;FMTTYPE=image/jpeg:https://www.cndf.qc.ca/wp-content/uploads/2022/0
 3/entete-gars-fille.jpg
CATEGORIES:Événements majeurs du CNDF
LOCATION:Auditorium Jean-Pierre-Tremblay\, 5000\, rue Clément-Lockquell\, 
 Saint-Augustin-de-Desmaures\, Québec\, G3A 1B3\, Canada
X-APPLE-STRUCTURED-LOCATION;VALUE=URI;X-ADDRESS=5000\, rue Clément-Lockque
 ll\, Saint-Augustin-de-Desmaures\, Québec\, G3A 1B3\, Canada;X-APPLE-RADI
 US=100;X-TITLE=Auditorium Jean-Pierre-Tremblay:geo:0,0
END:VEVENT
BEGIN:VTIMEZONE
TZID:America/New_York
X-LIC-LOCATION:America/New_York
BEGIN:DAYLIGHT
DTSTART:20220313T030000
TZOFFSETFROM:-0500
TZOFFSETTO:-0400
TZNAME:EDT
END:DAYLIGHT
END:VTIMEZONE
END:VCALENDAR