BEGIN:VCALENDAR
VERSION:2.0
PRODID:-//wp-events-plugin.com//7.2.3.1//EN
TZID:America/New_York
X-WR-TIMEZONE:America/New_York
BEGIN:VEVENT
UID:83@cndf.qc.ca
DTSTART;TZID=America/New_York:20220428T190000
DTEND;TZID=America/New_York:20220428T190000
DTSTAMP:20220413T162641Z
URL:https://www.cndf.qc.ca/events/gala-sportif-cndf/
SUMMARY:Gala Sportif\, une présentation de la Fondation du CNDF
DESCRIPTION:Le Gala Sportif\, une présentation de la Fondation du CNDF\, e
 st un événement d’envergure au CNDF qui nous donne l’occasion de sou
 ligner l’excellence du parcours scolaire et sportif de nos étudiants\, 
 leurs efforts\, leurs talents\, leur assiduité ainsi que leur persévéra
 nce. En effet\, plus d’une centaine d’étudiantes et étudiants sont e
 n nomination pour recevoir un prix dans leur domaine d’études.\n\nC’e
 st avec un immense plaisir et beaucoup de fierté que nous vous invitons 
 à cette soirée qui se tiendra à l’auditorium Jean-Pierre-Tremblay le 
 jeudi 28 avril à 19 h.
ATTACH;FMTTYPE=image/jpeg:https://www.cndf.qc.ca/wp-content/uploads/2022/0
 3/gala-sportif-2022.jpg
CATEGORIES:Événements majeurs du CNDF,Sports
LOCATION:Campus Notre-Dame-de-Foy\, 5000\, rue Clément-Lockquell\, Saint-A
 ugustin-de-Desmaures\, Québec\, G3A 1B3\, Québec\, Canada
X-APPLE-STRUCTURED-LOCATION;VALUE=URI;X-ADDRESS=5000\, rue Clément-Lockque
 ll\, Saint-Augustin-de-Desmaures\, Québec\, G3A 1B3\, Québec\, Canada;X-
 APPLE-RADIUS=100;X-TITLE=Campus Notre-Dame-de-Foy:geo:0,0
END:VEVENT
BEGIN:VTIMEZONE
TZID:America/New_York
X-LIC-LOCATION:America/New_York
BEGIN:DAYLIGHT
DTSTART:20220313T030000
TZOFFSETFROM:-0500
TZOFFSETTO:-0400
TZNAME:EDT
END:DAYLIGHT
END:VTIMEZONE
END:VCALENDAR