BEGIN:VCALENDAR
VERSION:2.0
PRODID:-//wp-events-plugin.com//7.2.3.1//EN
TZID:America/New_York
X-WR-TIMEZONE:America/New_York
BEGIN:VEVENT
UID:442@cndf.qc.ca
DTSTART;TZID=America/New_York:20260304T200000
DTEND;TZID=America/New_York:20260304T213000
DTSTAMP:20260224T170259Z
URL:https://www.cndf.qc.ca/events/improvisation-match12-2026-stlawrence-vs
 -cndf/
SUMMARY:Cégep Champlain St-Lawrence vs Quasimodo (CNDF)
DESCRIPTION:Douzième match de la saison 2026 de la Ligue d'Improvisation I
 ntercollégiale\, alors que la FIT du Cégep Champlain St- Lawrence rencon
 trera le Quasimodo du CNDF.\n\nLes matchs se déroulent à la scène du so
 us-sol du CNDF.
ATTACH;FMTTYPE=image/jpeg:https://www.cndf.qc.ca/wp-content/uploads/2026/0
 2/461301716_1504862980159839_8383919995385437463_n.jpg
CATEGORIES:Improvisation
LOCATION:Campus Notre-Dame-de-Foy\, 5000\, rue Clément-Lockquell\, Saint-A
 ugustin-de-Desmaures\, Québec\, G3A 1B3\, Québec\, Canada
X-APPLE-STRUCTURED-LOCATION;VALUE=URI;X-ADDRESS=5000\, rue Clément-Lockque
 ll\, Saint-Augustin-de-Desmaures\, Québec\, G3A 1B3\, Québec\, Canada;X-
 APPLE-RADIUS=100;X-TITLE=Campus Notre-Dame-de-Foy:geo:0,0
END:VEVENT
BEGIN:VTIMEZONE
TZID:America/New_York
X-LIC-LOCATION:America/New_York
BEGIN:STANDARD
DTSTART:20251102T010000
TZOFFSETFROM:-0400
TZOFFSETTO:-0500
TZNAME:EST
END:STANDARD
END:VTIMEZONE
END:VCALENDAR