BEGIN:VCALENDAR
VERSION:2.0
PRODID:-//wp-events-plugin.com//7.2.3.1//EN
TZID:America/New_York
X-WR-TIMEZONE:America/New_York
BEGIN:VEVENT
UID:444@cndf.qc.ca
DTSTART;TZID=America/New_York:20260408T200000
DTEND;TZID=America/New_York:20260408T213000
DTSTAMP:20260224T170539Z
URL:https://www.cndf.qc.ca/events/improvisation-match14-2026-cndf-vs-garne
 au/
SUMMARY:Quasimodo (CNDF) au Cégep Garneau
DESCRIPTION:Quatorzième et dernier match de la saison 2026 de la Ligue d'I
 mprovisation Intercollégiale\, alors que le Quasimodo du CNDF rencontre l
 e Ninja du Cégep Garneau.
ATTACH;FMTTYPE=image/jpeg:https://www.cndf.qc.ca/wp-content/uploads/2026/0
 2/461301716_1504862980159839_8383919995385437463_n.jpg
CATEGORIES:Improvisation
LOCATION:Cégep Garneau\, 1660\, boulevard de l'Entente\, Québec\, Québec
 \, G1S 4S3\, Canada
X-APPLE-STRUCTURED-LOCATION;VALUE=URI;X-ADDRESS=1660\, boulevard de l'Enten
 te\, Québec\, Québec\, G1S 4S3\, Canada;X-APPLE-RADIUS=100;X-TITLE=Cége
 p Garneau:geo:0,0
END:VEVENT
BEGIN:VTIMEZONE
TZID:America/New_York
X-LIC-LOCATION:America/New_York
BEGIN:DAYLIGHT
DTSTART:20260308T030000
TZOFFSETFROM:-0500
TZOFFSETTO:-0400
TZNAME:EDT
END:DAYLIGHT
END:VTIMEZONE
END:VCALENDAR