BEGIN:VCALENDAR
VERSION:2.0
PRODID:-//wp-events-plugin.com//7.2.3.1//EN
TZID:America/New_York
X-WR-TIMEZONE:America/New_York
BEGIN:VEVENT
UID:422@cndf.qc.ca
DTSTART;TZID=America/New_York:20251008T123000
DTEND;TZID=America/New_York:20251008T123000
DTSTAMP:20250924T203027Z
URL:https://www.cndf.qc.ca/events/journee-musique-concert-des-etudiants-oc
 tobre-2025/
SUMMARY:Journée de la  musique : concert  des étudiants
DESCRIPTION:Les étudiants et ensembles du Département de musique vous pr
 ésentent un concert où musique classique\, pop et jazz se côtoient pour
  souligner la Journée internationale de la musique qui avait lieu le 1er 
 octobre.
ATTACH;FMTTYPE=image/jpeg:https://www.cndf.qc.ca/wp-content/uploads/2021/1
 1/calendrier_spectacles_musique.jpg
CATEGORIES:Musique,Spectacles
LOCATION:Salle de concert La Chapelle du pavillon De-La-Salle\, 5010\, rue 
 Clément-Lockquell\, Saint-Augustin-de-Desmaures\, Québec\, G3A 1B3\, Qu
 ébec\, Canada
X-APPLE-STRUCTURED-LOCATION;VALUE=URI;X-ADDRESS=5010\, rue Clément-Lockque
 ll\, Saint-Augustin-de-Desmaures\, Québec\, G3A 1B3\, Québec\, Canada;X-
 APPLE-RADIUS=100;X-TITLE=Salle de concert La Chapelle du pavillon De-La-Sa
 lle:geo:0,0
END:VEVENT
BEGIN:VTIMEZONE
TZID:America/New_York
X-LIC-LOCATION:America/New_York
BEGIN:DAYLIGHT
DTSTART:20250309T030000
TZOFFSETFROM:-0500
TZOFFSETTO:-0400
TZNAME:EDT
END:DAYLIGHT
END:VTIMEZONE
END:VCALENDAR