BEGIN:VCALENDAR
VERSION:2.0
PRODID:-//wp-events-plugin.com//7.2.3.1//EN
TZID:America/New_York
X-WR-TIMEZONE:America/New_York
BEGIN:VEVENT
UID:441@cndf.qc.ca
DTSTART;TZID=America/New_York:20270130T093000
DTEND;TZID=America/New_York:20270130T133000
DTSTAMP:20260219T184552Z
URL:https://www.cndf.qc.ca/events/journee-portes-ouvertes-2027/
SUMMARY:Journée portes ouvertes du CNDF
DESCRIPTION:Notre journée portes ouvertes de l'hiver aura lieu samedi le 3
 0 janvier 2027. Les participants auront la chance d’explorer nos diffé
 rents programmes d’études et de rencontrer des enseignants et des étu
 diants afin d’en apprendre davantage sur les services offerts au Campus.
  Pour plus de détails\, cliquez ici. 
ATTACH;FMTTYPE=image/jpeg:https://www.cndf.qc.ca/wp-content/uploads/2023/0
 8/image-calendrier-evenements-cndf.jpg
CATEGORIES:Événements majeurs du CNDF
END:VEVENT
BEGIN:VTIMEZONE
TZID:America/New_York
X-LIC-LOCATION:America/New_York
BEGIN:STANDARD
DTSTART:20261101T010000
TZOFFSETFROM:-0400
TZOFFSETTO:-0500
TZNAME:EST
END:STANDARD
END:VTIMEZONE
END:VCALENDAR