BEGIN:VCALENDAR
VERSION:2.0
PRODID:-//wp-events-plugin.com//7.2.3.1//EN
TZID:America/New_York
X-WR-TIMEZONE:America/New_York
BEGIN:VEVENT
UID:300@cndf.qc.ca
DTSTART;TZID=America/New_York;VALUE=DATE:20250201
DTEND;TZID=America/New_York;VALUE=DATE:20250202
DTSTAMP:20240910T145455Z
URL:https://www.cndf.qc.ca/events/journee-portes-ouvertes-cndf-2025/
SUMMARY:Journée portes ouvertes du CNDF
DESCRIPTION:Notre journée portes ouvertes d'hiver aura lieu samedi le 1er 
 février 2025. Les participants auront la chance d’explorer nos différ
 ents programmes d’études et de rencontrer des enseignants et des étud
 iants afin d’en apprendre davantage sur les services offerts au Campus. 
 Pour plus de détails\, cliquez ici. 
ATTACH;FMTTYPE=image/jpeg:https://www.cndf.qc.ca/wp-content/uploads/2023/0
 8/image-calendrier-evenements-cndf.jpg
CATEGORIES:Événements majeurs du CNDF
END:VEVENT
BEGIN:VTIMEZONE
TZID:America/New_York
X-LIC-LOCATION:America/New_York
BEGIN:STANDARD
DTSTART:20241103T010000
TZOFFSETFROM:-0400
TZOFFSETTO:-0500
TZNAME:EST
END:STANDARD
END:VTIMEZONE
END:VCALENDAR