BEGIN:VCALENDAR
VERSION:2.0
PRODID:-//wp-events-plugin.com//7.2.3.1//EN
TZID:America/New_York
X-WR-TIMEZONE:America/New_York
BEGIN:VEVENT
UID:241@cndf.qc.ca
DTSTART;TZID=America/New_York:20240516T193000
DTEND;TZID=America/New_York:20240516T223000
DTSTAMP:20240515T131258Z
URL:https://www.cndf.qc.ca/events/kombo-de-lest-concert-des-finissants-en-
 musique-du-cndf/
SUMMARY:Kombo de l'est - Concert des finissants en Musique du CNDF
DESCRIPTION:On sort des murs du Campus! Venez passer une soirée tout en mu
 sique à l’Ampli de Québec pour l’ultime concert de nos finissants d
 u programme de 3 ans : Thomas Dagand\, Daven Lachance\, Cédric Simard\, A
 rslan Trtak\, le tout sous la direction musicale d’Antoine Daignault.\n\
 nVeuillez prendre note que les portes ouvriront à 18h30.\n\n&nbsp\;\n
ATTACH;FMTTYPE=image/jpeg:https://www.cndf.qc.ca/wp-content/uploads/2024/0
 5/kombo.jpg
CATEGORIES:Musique,Spectacles
END:VEVENT
BEGIN:VTIMEZONE
TZID:America/New_York
X-LIC-LOCATION:America/New_York
BEGIN:DAYLIGHT
DTSTART:20240310T030000
TZOFFSETFROM:-0500
TZOFFSETTO:-0400
TZNAME:EDT
END:DAYLIGHT
END:VTIMEZONE
END:VCALENDAR