BEGIN:VCALENDAR
VERSION:2.0
PRODID:-//wp-events-plugin.com//7.2.3.1//EN
TZID:America/New_York
X-WR-TIMEZONE:America/New_York
BEGIN:VEVENT
UID:325@cndf.qc.ca
DTSTART;TZID=America/Toronto:20241201T143000
DTEND;TZID=America/Toronto:20241201T143000
DTSTAMP:20240923T160951Z
URL:https://www.cndf.qc.ca/events/match-basketball-masculin-notre-dame-gar
 neau-decembre-2024/
SUMMARY:Notre-Dame c. Cégep Garneau
DESCRIPTION:Sixième match de la saison de l’équipe masculine du Notre-D
 ame Basketball contre le Cégep Garneau.
ATTACH;FMTTYPE=image/jpeg:https://www.cndf.qc.ca/wp-content/uploads/2021/1
 0/calendrier_basketball_masculin.jpg
CATEGORIES:Basketball masculin
LOCATION:Cégep Garneau\, 1660\, boulevard de l'Entente\, Québec\, Québec
 \, G1S 4S3\, Canada
X-APPLE-STRUCTURED-LOCATION;VALUE=URI;X-ADDRESS=1660\, boulevard de l'Enten
 te\, Québec\, Québec\, G1S 4S3\, Canada;X-APPLE-RADIUS=100;X-TITLE=Cége
 p Garneau:geo:0,0
END:VEVENT
BEGIN:VTIMEZONE
TZID:America/Toronto
X-LIC-LOCATION:America/Toronto
BEGIN:STANDARD
DTSTART:20241103T010000
TZOFFSETFROM:-0400
TZOFFSETTO:-0500
TZNAME:EST
END:STANDARD
END:VTIMEZONE
END:VCALENDAR