BEGIN:VCALENDAR
VERSION:2.0
PRODID:-//wp-events-plugin.com//7.2.3.1//EN
TZID:America/New_York
X-WR-TIMEZONE:America/New_York
BEGIN:VEVENT
UID:321@cndf.qc.ca
DTSTART;TZID=America/Toronto:20241025T200000
DTEND;TZID=America/Toronto:20241025T200000
DTSTAMP:20240923T155850Z
URL:https://www.cndf.qc.ca/events/match-basketball-notre-dame-la-pocatiere
 -octobre-2024/
SUMMARY:Notre-Dame c. Cégep de La Pocatière
DESCRIPTION:Deuxième match de la saison de l’équipe masculine du Notre-
 Dame Basketball contre le Cégep de La Pocatière.\n\n&nbsp\;
ATTACH;FMTTYPE=image/jpeg:https://www.cndf.qc.ca/wp-content/uploads/2021/1
 0/calendrier_basketball_masculin.jpg
CATEGORIES:Basketball masculin
LOCATION:Cégep De Pocatière\, 140 4 Avenue Painchaud\, La Pocatière\, Qu
 ebec\, G0R 1Z0\, Canada
X-APPLE-STRUCTURED-LOCATION;VALUE=URI;X-ADDRESS=140 4 Avenue Painchaud\, La
  Pocatière\, Quebec\, G0R 1Z0\, Canada;X-APPLE-RADIUS=100;X-TITLE=Cégep 
 De Pocatière:geo:0,0
END:VEVENT
BEGIN:VTIMEZONE
TZID:America/Toronto
X-LIC-LOCATION:America/Toronto
BEGIN:DAYLIGHT
DTSTART:20240310T030000
TZOFFSETFROM:-0500
TZOFFSETTO:-0400
TZNAME:EDT
END:DAYLIGHT
END:VTIMEZONE
END:VCALENDAR