BEGIN:VCALENDAR
VERSION:2.0
PRODID:-//wp-events-plugin.com//7.2.3.1//EN
TZID:America/New_York
X-WR-TIMEZONE:America/New_York
BEGIN:VEVENT
UID:320@cndf.qc.ca
DTSTART;TZID=America/Toronto:20241019T150000
DTEND;TZID=America/Toronto:20241019T150000
DTSTAMP:20240923T142049Z
URL:https://www.cndf.qc.ca/events/match-basketball-notre-dame-levis-octobr
 e-2024/
SUMMARY:Notre-Dame c. Cégep de Lévis
DESCRIPTION:Premier match de la saison de l’équipe masculine du Notre-Da
 me Basketball contre le Cégep de Lévis.
ATTACH;FMTTYPE=image/jpeg:https://www.cndf.qc.ca/wp-content/uploads/2021/1
 0/calendrier_basketball_masculin.jpg
CATEGORIES:Basketball masculin
LOCATION:Cégep de Lévis\, 205\, route Monseigneur-Bourget\, Lévis\, Qué
 bec\, G6V 6Z9\, Canada
X-APPLE-STRUCTURED-LOCATION;VALUE=URI;X-ADDRESS=205\, route Monseigneur-Bou
 rget\, Lévis\, Québec\, G6V 6Z9\, Canada;X-APPLE-RADIUS=100;X-TITLE=Cég
 ep de Lévis:geo:0,0
END:VEVENT
BEGIN:VTIMEZONE
TZID:America/Toronto
X-LIC-LOCATION:America/Toronto
BEGIN:DAYLIGHT
DTSTART:20240310T030000
TZOFFSETFROM:-0500
TZOFFSETTO:-0400
TZNAME:EDT
END:DAYLIGHT
END:VTIMEZONE
END:VCALENDAR