BEGIN:VCALENDAR
VERSION:2.0
PRODID:-//wp-events-plugin.com//7.2.3.1//EN
TZID:America/New_York
X-WR-TIMEZONE:America/New_York
BEGIN:VEVENT
UID:313@cndf.qc.ca
DTSTART;TZID=America/New_York:20250124T190000
DTEND;TZID=America/New_York:20250124T190000
DTSTAMP:20240923T174533Z
URL:https://www.cndf.qc.ca/events/match-basketball-notre-dame-riviere-loup
 -octobre-2024/
SUMMARY:Notre-Dame c. Cégep de Rivière-du-Loup
DESCRIPTION:Septième match de la saison de l’équipe féminine du Notre-
 Dame Basketball contre le Cégep de Rivière-du-Loup.
ATTACH;FMTTYPE=image/jpeg:https://www.cndf.qc.ca/wp-content/uploads/2022/1
 0/basket_feminin_masculin.jpg
CATEGORIES:Basketball féminin,Sports
LOCATION:Cégep de Rivière-du-Loup\, 80\, rue Frontenac \, Rivière-du-Lou
 p\, Québec\, G5R 1R1\, Canada
X-APPLE-STRUCTURED-LOCATION;VALUE=URI;X-ADDRESS=80\, rue Frontenac \, Rivi
 ère-du-Loup\, Québec\, G5R 1R1\, Canada;X-APPLE-RADIUS=100;X-TITLE=Cége
 p de Rivière-du-Loup:geo:0,0
END:VEVENT
BEGIN:VTIMEZONE
TZID:America/New_York
X-LIC-LOCATION:America/New_York
BEGIN:STANDARD
DTSTART:20241103T010000
TZOFFSETFROM:-0400
TZOFFSETTO:-0500
TZNAME:EST
END:STANDARD
END:VTIMEZONE
END:VCALENDAR