BEGIN:VCALENDAR
VERSION:2.0
PRODID:-//wp-events-plugin.com//7.2.3.1//EN
TZID:America/New_York
X-WR-TIMEZONE:America/New_York
BEGIN:VEVENT
UID:399@cndf.qc.ca
DTSTART;TZID=America/New_York:20251206T130000
DTEND;TZID=America/New_York:20251206T130000
DTSTAMP:20250918T194553Z
URL:https://www.cndf.qc.ca/events/match-collegial-basketball-feminin-d3-qc
 a-edq-6-decembre-2025/
SUMMARY:Notre-Dame c. Collège Mérici
DESCRIPTION:\n\nSixième match de la saison de l’équipe féminine de bas
 ketball de la ligue RSEQ. Le Notre-Dame affrontera les Panthères du Coll
 ège Mérici.\n\n\n\n\n
ATTACH;FMTTYPE=image/jpeg:https://www.cndf.qc.ca/wp-content/uploads/2021/1
 0/calendrier_basket_feminin_2021.jpg
CATEGORIES:Basketball féminin,Sports
LOCATION:Collège Mérici\, 755 Grande Allée O\, Québec\, Québec\, G1S 1
 C1\, Canada
X-APPLE-STRUCTURED-LOCATION;VALUE=URI;X-ADDRESS=755 Grande Allée O\, Québ
 ec\, Québec\, G1S 1C1\, Canada;X-APPLE-RADIUS=100;X-TITLE=Collège Méric
 i:geo:0,0
END:VEVENT
BEGIN:VTIMEZONE
TZID:America/New_York
X-LIC-LOCATION:America/New_York
BEGIN:STANDARD
DTSTART:20251102T010000
TZOFFSETFROM:-0400
TZOFFSETTO:-0500
TZNAME:EST
END:STANDARD
END:VTIMEZONE
END:VCALENDAR