BEGIN:VCALENDAR
VERSION:2.0
PRODID:-//wp-events-plugin.com//7.2.3.1//EN
TZID:America/New_York
X-WR-TIMEZONE:America/New_York
BEGIN:VEVENT
UID:210@cndf.qc.ca
DTSTART;TZID=America/New_York:20231112T140000
DTEND;TZID=America/New_York:20231112T140000
DTSTAMP:20231010T153828Z
URL:https://www.cndf.qc.ca/events/match-collegial-basketball-feminin-rseq-
 12-novembre-2023/
SUMMARY:Cégep de Rivière-du-Loup c. Notre-Dame
DESCRIPTION:Quatrième match de la saison de l'équipe féminine de basketb
 all du Campus Notre-Dame-de-Foy de la ligue du RSEQ. L'équipe affrontera 
 le Cégep de Rivière-du-Loup.\n\nNous vous rappelons que vous avez jusqu
 ’au 12 novembre pour participer à la Loto Notre-Dame\, un moitié-moiti
 é cumulatif. Procurez-vous vos billets ici pour encourager les équipes s
 portives du Campus et faire augmenter le montant de la cagnotte!
ATTACH;FMTTYPE=image/jpeg:https://www.cndf.qc.ca/wp-content/uploads/2021/1
 0/calendrier_basket_feminin_2021.jpg
CATEGORIES:Basketball féminin,Sports
LOCATION:Campus Notre-Dame-de-Foy\, 5000\, rue Clément-Lockquell\, Saint-A
 ugustin-de-Desmaures\, Québec\, G3A 1B3\, Québec\, Canada
X-APPLE-STRUCTURED-LOCATION;VALUE=URI;X-ADDRESS=5000\, rue Clément-Lockque
 ll\, Saint-Augustin-de-Desmaures\, Québec\, G3A 1B3\, Québec\, Canada;X-
 APPLE-RADIUS=100;X-TITLE=Campus Notre-Dame-de-Foy:geo:0,0
END:VEVENT
BEGIN:VTIMEZONE
TZID:America/New_York
X-LIC-LOCATION:America/New_York
BEGIN:STANDARD
DTSTART:20231105T010000
TZOFFSETFROM:-0400
TZOFFSETTO:-0500
TZNAME:EST
END:STANDARD
END:VTIMEZONE
END:VCALENDAR