BEGIN:VCALENDAR
VERSION:2.0
PRODID:-//wp-events-plugin.com//7.2.3.1//EN
TZID:America/New_York
X-WR-TIMEZONE:America/New_York
BEGIN:VEVENT
UID:216@cndf.qc.ca
DTSTART;TZID=America/New_York:20240217T120000
DTEND;TZID=America/New_York:20240217T120000
DTSTAMP:20230925T205336Z
URL:https://www.cndf.qc.ca/events/match-collegial-basketball-feminin-rseq-
 17-fevrier-2024/
SUMMARY:Notre-Dame c. Cégep de Jonquière
DESCRIPTION:Dixième match de la saison de l'équipe féminine de basketbal
 l du Campus Notre-Dame-de-Foy de la ligue du RSEQ. L'équipe affrontera le
  Cégep de Jonquière.
ATTACH;FMTTYPE=image/jpeg:https://www.cndf.qc.ca/wp-content/uploads/2021/1
 0/calendrier_basket_feminin_2021.jpg
CATEGORIES:Basketball féminin,Sports
LOCATION:Cégep de Jonquière\, 2505 Rue Saint-Hubert\, Jonquière\, Québe
 c\, G7X 7W2\, Canada
X-APPLE-STRUCTURED-LOCATION;VALUE=URI;X-ADDRESS=2505 Rue Saint-Hubert\, Jon
 quière\, Québec\, G7X 7W2\, Canada;X-APPLE-RADIUS=100;X-TITLE=Cégep de 
 Jonquière:geo:0,0
END:VEVENT
BEGIN:VTIMEZONE
TZID:America/New_York
X-LIC-LOCATION:America/New_York
BEGIN:STANDARD
DTSTART:20231105T010000
TZOFFSETFROM:-0400
TZOFFSETTO:-0500
TZNAME:EST
END:STANDARD
END:VTIMEZONE
END:VCALENDAR