BEGIN:VCALENDAR
VERSION:2.0
PRODID:-//wp-events-plugin.com//7.2.3.1//EN
TZID:America/New_York
X-WR-TIMEZONE:America/New_York
BEGIN:VEVENT
UID:208@cndf.qc.ca
DTSTART;TZID=America/New_York:20231022T140000
DTEND;TZID=America/New_York:20231022T140000
DTSTAMP:20231010T153838Z
URL:https://www.cndf.qc.ca/events/match-collegial-basketball-feminin-rseq-
 22-octobre-2023/
SUMMARY:Cégep de Sainte-Foy c. Notre-Dame
DESCRIPTION:Premier match de la saison de l'équipe féminine de basketball
  du Campus Notre-Dame-de-Foy de la ligue du RSEQ. L'équipe affrontera le 
 Cégep de Sainte-Foy.\n\nNous vous rappelons que vous avez jusqu’au 12 n
 ovembre pour participer à la Loto Notre-Dame\, un moitié-moitié cumulat
 if. Procurez-vous vos billets ici pour encourager les équipes sportives d
 u Campus et faire augmenter le montant de la cagnotte!
ATTACH;FMTTYPE=image/jpeg:https://www.cndf.qc.ca/wp-content/uploads/2021/1
 0/calendrier_basket_feminin_2021.jpg
CATEGORIES:Basketball féminin,Sports
LOCATION:Campus Notre-Dame-de-Foy\, 5000\, rue Clément-Lockquell\, Saint-A
 ugustin-de-Desmaures\, Québec\, G3A 1B3\, Québec\, Canada
X-APPLE-STRUCTURED-LOCATION;VALUE=URI;X-ADDRESS=5000\, rue Clément-Lockque
 ll\, Saint-Augustin-de-Desmaures\, Québec\, G3A 1B3\, Québec\, Canada;X-
 APPLE-RADIUS=100;X-TITLE=Campus Notre-Dame-de-Foy:geo:0,0
END:VEVENT
BEGIN:VTIMEZONE
TZID:America/New_York
X-LIC-LOCATION:America/New_York
BEGIN:DAYLIGHT
DTSTART:20230312T030000
TZOFFSETFROM:-0500
TZOFFSETTO:-0400
TZNAME:EDT
END:DAYLIGHT
END:VTIMEZONE
END:VCALENDAR