BEGIN:VCALENDAR
VERSION:2.0
PRODID:-//wp-events-plugin.com//7.2.3.1//EN
TZID:America/New_York
X-WR-TIMEZONE:America/New_York
BEGIN:VEVENT
UID:211@cndf.qc.ca
DTSTART;TZID=America/New_York:20231125T130000
DTEND;TZID=America/New_York:20231125T130000
DTSTAMP:20230925T195715Z
URL:https://www.cndf.qc.ca/events/match-collegial-basketball-feminin-rseq-
 25-novembre-2023/
SUMMARY:Notre-Dame c. Cégep Champlain St-Lawrence
DESCRIPTION:Cinquième match de la saison de l'équipe féminine de basketb
 all du Campus Notre-Dame-de-Foy de la ligue du RSEQ. L'équipe affrontera 
 le Cégep de Jonquière.
ATTACH;FMTTYPE=image/jpeg:https://www.cndf.qc.ca/wp-content/uploads/2021/1
 0/calendrier_basket_feminin_2021.jpg
CATEGORIES:Basketball féminin,Sports
LOCATION:Cégep Champlain St-Lawrence\, 790 Av. Nérée-Tremblay\, Québec\
 , Québec\, G1V 4K2\, Canada
X-APPLE-STRUCTURED-LOCATION;VALUE=URI;X-ADDRESS=790 Av. Nérée-Tremblay\, 
 Québec\, Québec\, G1V 4K2\, Canada;X-APPLE-RADIUS=100;X-TITLE=Cégep Cha
 mplain St-Lawrence:geo:0,0
END:VEVENT
BEGIN:VTIMEZONE
TZID:America/New_York
X-LIC-LOCATION:America/New_York
BEGIN:STANDARD
DTSTART:20231105T010000
TZOFFSETFROM:-0400
TZOFFSETTO:-0500
TZNAME:EST
END:STANDARD
END:VTIMEZONE
END:VCALENDAR