BEGIN:VCALENDAR
VERSION:2.0
PRODID:-//wp-events-plugin.com//7.2.3.1//EN
TZID:America/New_York
X-WR-TIMEZONE:America/New_York
BEGIN:VEVENT
UID:207@cndf.qc.ca
DTSTART;TZID=America/New_York:20231027T190000
DTEND;TZID=America/New_York:20231027T190000
DTSTAMP:20231010T154107Z
URL:https://www.cndf.qc.ca/events/match-collegial-basketball-feminin-rseq-
 27-octobre-2023/
SUMMARY:Notre-Dame c. Cégep Limoilou
DESCRIPTION:Deuxième match de la saison de l'équipe féminine de basketba
 ll du Campus Notre-Dame-de-Foy de la ligue du RSEQ. L'équipe affrontera l
 e Cégep Limoilou.\n\nNous vous rappelons que vous avez jusqu’au 12 nove
 mbre pour participer à la Loto Notre-Dame\, un moitié-moitié cumulatif.
  Procurez-vous vos billets ici pour encourager les équipes sportives du C
 ampus et faire augmenter le montant de la cagnotte!
ATTACH;FMTTYPE=image/jpeg:https://www.cndf.qc.ca/wp-content/uploads/2021/1
 0/calendrier_basket_feminin_2021.jpg
CATEGORIES:Basketball féminin,Sports
LOCATION:Cégep Limoilou\, 1300\, 8ème Avenue\, Québec\, Québec\, G1J 5L
 5\, Canada
X-APPLE-STRUCTURED-LOCATION;VALUE=URI;X-ADDRESS=1300\, 8ème Avenue\, Québ
 ec\, Québec\, G1J 5L5\, Canada;X-APPLE-RADIUS=100;X-TITLE=Cégep Limoilou
 :geo:0,0
END:VEVENT
BEGIN:VTIMEZONE
TZID:America/New_York
X-LIC-LOCATION:America/New_York
BEGIN:DAYLIGHT
DTSTART:20230312T030000
TZOFFSETFROM:-0500
TZOFFSETTO:-0400
TZNAME:EDT
END:DAYLIGHT
END:VTIMEZONE
END:VCALENDAR