BEGIN:VCALENDAR
VERSION:2.0
PRODID:-//wp-events-plugin.com//7.2.3.1//EN
TZID:America/New_York
X-WR-TIMEZONE:America/New_York
BEGIN:VEVENT
UID:408@cndf.qc.ca
DTSTART;TZID=America/New_York:20251109T150000
DTEND;TZID=America/New_York:20251109T150000
DTSTAMP:20250918T200505Z
URL:https://www.cndf.qc.ca/events/match-collegial-basketball-masculin-d3-q
 ca-edq-9-novembre-2025/
SUMMARY:Notre-Dame c. Cégep de Lévis
DESCRIPTION:Deuxième match de la saison de l’équipe masculine de basket
 ball de la ligue RSEQ. Le Notre-Dame affrontera les Faucons du Cégep de L
 évis.\n\n&nbsp\;
ATTACH;FMTTYPE=image/jpeg:https://www.cndf.qc.ca/wp-content/uploads/2021/1
 0/calendrier_basketball_masculin.jpg
CATEGORIES:Basketball masculin,Sports
LOCATION:Cégep de Lévis\, 205\, route Monseigneur-Bourget\, Lévis\, Qué
 bec\, G6V 6Z9\, Canada
X-APPLE-STRUCTURED-LOCATION;VALUE=URI;X-ADDRESS=205\, route Monseigneur-Bou
 rget\, Lévis\, Québec\, G6V 6Z9\, Canada;X-APPLE-RADIUS=100;X-TITLE=Cég
 ep de Lévis:geo:0,0
END:VEVENT
BEGIN:VTIMEZONE
TZID:America/New_York
X-LIC-LOCATION:America/New_York
BEGIN:STANDARD
DTSTART:20251102T010000
TZOFFSETFROM:-0400
TZOFFSETTO:-0500
TZNAME:EST
END:STANDARD
END:VTIMEZONE
END:VCALENDAR