BEGIN:VCALENDAR
VERSION:2.0
PRODID:-//wp-events-plugin.com//7.2.3.1//EN
TZID:America/New_York
X-WR-TIMEZONE:America/New_York
BEGIN:VEVENT
UID:222@cndf.qc.ca
DTSTART;TZID=America/New_York:20231112T160000
DTEND;TZID=America/New_York:20231112T160000
DTSTAMP:20231010T153823Z
URL:https://www.cndf.qc.ca/events/match-collegial-basketball-masculin-rseq
 -12-novembre-2023/
SUMMARY:Cégep de La Pocatière c. Notre-Dame
DESCRIPTION:Quatrième match de la saison de la ligue du RSEQ de l'équipe 
 masculine de basketball du Notre-Dame. L'équipe affrontera le Cégep de L
 a Pocatière.\n\nNous vous rappelons que vous avez jusqu’au 12 novembre 
 pour participer à la Loto Notre-Dame\, un moitié-moitié cumulatif. Proc
 urez-vous vos billets ici pour encourager les équipes sportives du Campus
  et faire augmenter le montant de la cagnotte!
ATTACH;FMTTYPE=image/jpeg:https://www.cndf.qc.ca/wp-content/uploads/2021/1
 0/calendrier_basketball_masculin.jpg
CATEGORIES:Basketball masculin,Sports
LOCATION:Campus Notre-Dame-de-Foy\, 5000\, rue Clément-Lockquell\, Saint-A
 ugustin-de-Desmaures\, Québec\, G3A 1B3\, Québec\, Canada
X-APPLE-STRUCTURED-LOCATION;VALUE=URI;X-ADDRESS=5000\, rue Clément-Lockque
 ll\, Saint-Augustin-de-Desmaures\, Québec\, G3A 1B3\, Québec\, Canada;X-
 APPLE-RADIUS=100;X-TITLE=Campus Notre-Dame-de-Foy:geo:0,0
END:VEVENT
BEGIN:VTIMEZONE
TZID:America/New_York
X-LIC-LOCATION:America/New_York
BEGIN:STANDARD
DTSTART:20231105T010000
TZOFFSETFROM:-0400
TZOFFSETTO:-0500
TZNAME:EST
END:STANDARD
END:VTIMEZONE
END:VCALENDAR