BEGIN:VCALENDAR
VERSION:2.0
PRODID:-//wp-events-plugin.com//7.2.3.1//EN
TZID:America/New_York
X-WR-TIMEZONE:America/New_York
BEGIN:VEVENT
UID:224@cndf.qc.ca
DTSTART;TZID=America/New_York:20231126T130000
DTEND;TZID=America/New_York:20231126T130000
DTSTAMP:20231004T180335Z
URL:https://www.cndf.qc.ca/events/match-collegial-basketball-masculin-rseq
 -26-novembre-2023/
SUMMARY:Notre-Dame c. Cégep de Matane
DESCRIPTION:Sixième match de la saison de la ligue du RSEQ de l'équipe ma
 sculine de basketball du Notre-Dame. L'équipe affrontera le Cégep de Mat
 ane.
ATTACH;FMTTYPE=image/jpeg:https://www.cndf.qc.ca/wp-content/uploads/2021/1
 0/calendrier_basketball_masculin.jpg
CATEGORIES:Basketball masculin,Sports
LOCATION:Cégep de Matane\, 616 Avenue St Rédempteur\, Matane\, Québec\, 
 G4W 1L1\, Canada
X-APPLE-STRUCTURED-LOCATION;VALUE=URI;X-ADDRESS=616 Avenue St Rédempteur\,
  Matane\, Québec\, G4W 1L1\, Canada;X-APPLE-RADIUS=100;X-TITLE=Cégep de 
 Matane:geo:0,0
END:VEVENT
BEGIN:VTIMEZONE
TZID:America/New_York
X-LIC-LOCATION:America/New_York
BEGIN:STANDARD
DTSTART:20231105T010000
TZOFFSETFROM:-0400
TZOFFSETTO:-0500
TZNAME:EST
END:STANDARD
END:VTIMEZONE
END:VCALENDAR