BEGIN:VCALENDAR
VERSION:2.0
PRODID:-//wp-events-plugin.com//7.2.3.1//EN
TZID:America/New_York
X-WR-TIMEZONE:America/New_York
BEGIN:VEVENT
UID:230@cndf.qc.ca
DTSTART;TZID=America/New_York:20240308T190000
DTEND;TZID=America/New_York:20240308T190000
DTSTAMP:20231004T180545Z
URL:https://www.cndf.qc.ca/events/match-collegial-basketball-masculin-rseq
 -8-mars-2023/
SUMMARY:Notre-Dame c. Cégep de Sainte-Foy
DESCRIPTION:Douzième match de la saison de la ligue du RSEQ de l'équipe m
 asculine de basketball du Notre-Dame. L'équipe affrontera le Cégep de Sa
 inte-Foy.
ATTACH;FMTTYPE=image/jpeg:https://www.cndf.qc.ca/wp-content/uploads/2021/1
 0/calendrier_basketball_masculin.jpg
CATEGORIES:Basketball masculin,Sports
LOCATION:Cégep de Sainte-Foy\, 2410\, chemin Sainte-Foy\, Québec\, Québe
 c\, G1V 1T2\, Canada
X-APPLE-STRUCTURED-LOCATION;VALUE=URI;X-ADDRESS=2410\, chemin Sainte-Foy\, 
 Québec\, Québec\, G1V 1T2\, Canada;X-APPLE-RADIUS=100;X-TITLE=Cégep de 
 Sainte-Foy:geo:0,0
END:VEVENT
BEGIN:VTIMEZONE
TZID:America/New_York
X-LIC-LOCATION:America/New_York
BEGIN:STANDARD
DTSTART:20231105T010000
TZOFFSETFROM:-0400
TZOFFSETTO:-0500
TZNAME:EST
END:STANDARD
END:VTIMEZONE
END:VCALENDAR