BEGIN:VCALENDAR
VERSION:2.0
PRODID:-//wp-events-plugin.com//7.2.3.1//EN
TZID:America/New_York
X-WR-TIMEZONE:America/New_York
BEGIN:VEVENT
UID:234@cndf.qc.ca
DTSTART;TZID=America/New_York:20240127T090000
DTEND;TZID=America/New_York:20240127T090000
DTSTAMP:20231010T145018Z
URL:https://www.cndf.qc.ca/events/match-collegial-volley-feminin-rseq-27-j
 anvier-2024/
SUMMARY:Tournoi #3 à Shawinigan
DESCRIPTION:Troisième tournoi de volleyball féminin de la ligue collégia
 le du RSEQ.
ATTACH;FMTTYPE=image/jpeg:https://www.cndf.qc.ca/wp-content/uploads/2021/0
 9/calendrier-volleyball-feminin-scaled.jpg
CATEGORIES:Sports,Volleyball
LOCATION:Cégep de Shawinigan\, 2263 Av. du Collège\, Shawinigan\, Québec
 \, G9N 6V8\, Canada
X-APPLE-STRUCTURED-LOCATION;VALUE=URI;X-ADDRESS=2263 Av. du Collège\, Shaw
 inigan\, Québec\, G9N 6V8\, Canada;X-APPLE-RADIUS=100;X-TITLE=Cégep de S
 hawinigan:geo:0,0
END:VEVENT
BEGIN:VTIMEZONE
TZID:America/New_York
X-LIC-LOCATION:America/New_York
BEGIN:STANDARD
DTSTART:20231105T010000
TZOFFSETFROM:-0400
TZOFFSETTO:-0500
TZNAME:EST
END:STANDARD
END:VTIMEZONE
END:VCALENDAR