BEGIN:VCALENDAR
VERSION:2.0
PRODID:-//wp-events-plugin.com//7.2.3.1//EN
TZID:America/New_York
X-WR-TIMEZONE:America/New_York
BEGIN:VEVENT
UID:247@cndf.qc.ca
DTSTART;TZID=America/New_York:20241005T193000
DTEND;TZID=America/New_York:20241005T193000
DTSTAMP:20241005T223739Z
URL:https://www.cndf.qc.ca/events/match-football-cegep-limoilou-notre-dame
 -octobre-2024/
SUMMARY:Cégep Limoilou c. Notre-Dame
DESCRIPTION:IMPORTANT : Pour des raisons hors de notre contrôle\, la renco
 ntre du Notre-Dame Football contre le Cégep Limoilou sera webdiffusé sur
  la page Facebook du Notre-Dame.\n\nÀ l'occasion de ce quatrième et dern
 ier match à domicile de la saison régulière de football\, le Notre-Dame
  du Campus Notre-Dame-de-Foy recevra à domicile les Titans du Cégep Limo
 ilou au Stade des Anciens.\n\nUn hommage aux finissants 2024 du Notre-Dame
  Football sera rendu lors de cette partie.\n
ATTACH;FMTTYPE=image/jpeg:https://www.cndf.qc.ca/wp-content/uploads/2021/0
 8/calendrier_limoilou_vs_cndf.png
CATEGORIES:Football,Sports
LOCATION:Campus Notre-Dame-de-Foy (stade des Anciens)\, 5000\, rue Clément
 -Lockquell\, Saint-Augustin-de-Desmaures\, Québec\, G3A 1B3\, Canada
X-APPLE-STRUCTURED-LOCATION;VALUE=URI;X-ADDRESS=5000\, rue Clément-Lockque
 ll\, Saint-Augustin-de-Desmaures\, Québec\, G3A 1B3\, Canada;X-APPLE-RADI
 US=100;X-TITLE=Campus Notre-Dame-de-Foy (stade des Anciens):geo:0,0
END:VEVENT
BEGIN:VTIMEZONE
TZID:America/New_York
X-LIC-LOCATION:America/New_York
BEGIN:DAYLIGHT
DTSTART:20240310T030000
TZOFFSETFROM:-0500
TZOFFSETTO:-0400
TZNAME:EDT
END:DAYLIGHT
END:VTIMEZONE
END:VCALENDAR