BEGIN:VCALENDAR
VERSION:2.0
PRODID:-//wp-events-plugin.com//7.2.3.1//EN
TZID:America/New_York
X-WR-TIMEZONE:America/New_York
BEGIN:VEVENT
UID:246@cndf.qc.ca
DTSTART;TZID=America/New_York:20240927T193000
DTEND;TZID=America/New_York:20240927T193000
DTSTAMP:20240924T132719Z
URL:https://www.cndf.qc.ca/events/match-football-cegep-saint-jean-sur-rich
 elieu-notre-dame-septembre-2024/
SUMMARY:Cégep Saint-Jean-sur-Richelieu c. Notre-Dame
DESCRIPTION:À l'occasion du troisième match à domicile de la saison rég
 ulière de football\, le Notre-Dame du Campus Notre-Dame-de-Foy recevra le
 s Géants du Cégep Saint-Jean-sur-Richelieu au Stade des Anciens.\n\nLe N
 otre-Dame profite de cette partie pour inviter tous ses anciens porte-coul
 eurs à ses retrouvailles annuelles (homecoming).\n
ATTACH;FMTTYPE=image/jpeg:https://www.cndf.qc.ca/wp-content/uploads/2022/0
 7/calendrier_saint-jean_vs_cndf.png
CATEGORIES:Football,Sports
LOCATION:Campus Notre-Dame-de-Foy (stade des Anciens)\, 5000\, rue Clément
 -Lockquell\, Saint-Augustin-de-Desmaures\, Québec\, G3A 1B3\, Canada
X-APPLE-STRUCTURED-LOCATION;VALUE=URI;X-ADDRESS=5000\, rue Clément-Lockque
 ll\, Saint-Augustin-de-Desmaures\, Québec\, G3A 1B3\, Canada;X-APPLE-RADI
 US=100;X-TITLE=Campus Notre-Dame-de-Foy (stade des Anciens):geo:0,0
END:VEVENT
BEGIN:VTIMEZONE
TZID:America/New_York
X-LIC-LOCATION:America/New_York
BEGIN:DAYLIGHT
DTSTART:20240310T030000
TZOFFSETFROM:-0500
TZOFFSETTO:-0400
TZNAME:EDT
END:DAYLIGHT
END:VTIMEZONE
END:VCALENDAR