BEGIN:VCALENDAR
VERSION:2.0
PRODID:-//wp-events-plugin.com//7.2.3.1//EN
TZID:America/New_York
X-WR-TIMEZONE:America/New_York
BEGIN:VEVENT
UID:245@cndf.qc.ca
DTSTART;TZID=America/New_York:20240921T130000
DTEND;TZID=America/New_York:20240921T130000
DTSTAMP:20240916T160158Z
URL:https://www.cndf.qc.ca/events/match-football-college-andre-grasset-not
 re-dame-septembre-2024/
SUMMARY:Collège André-Grasset c. Notre-Dame
DESCRIPTION:Ce deuxième match à domicile de la saison de football\, prés
 enté par notre partenaire Brindamour Ventilation DR\, mettra aux prises l
 es Phénix du Collège André-Grasset au Notre-Dame du Campus Notre-Dame-d
 e-Foy.\n\n&nbsp\;\n\n
ATTACH;FMTTYPE=image/jpeg:https://www.cndf.qc.ca/wp-content/uploads/2023/0
 5/calendrier_andre-grasset_vs_cndf.png
CATEGORIES:Football,Sports
LOCATION:Campus Notre-Dame-de-Foy\, 5000\, rue Clément-Lockquell\, Saint-A
 ugustin-de-Desmaures\, Québec\, G3A 1B3\, Québec\, Canada
X-APPLE-STRUCTURED-LOCATION;VALUE=URI;X-ADDRESS=5000\, rue Clément-Lockque
 ll\, Saint-Augustin-de-Desmaures\, Québec\, G3A 1B3\, Québec\, Canada;X-
 APPLE-RADIUS=100;X-TITLE=Campus Notre-Dame-de-Foy:geo:0,0
END:VEVENT
BEGIN:VTIMEZONE
TZID:America/New_York
X-LIC-LOCATION:America/New_York
BEGIN:DAYLIGHT
DTSTART:20240310T030000
TZOFFSETFROM:-0500
TZOFFSETTO:-0400
TZNAME:EDT
END:DAYLIGHT
END:VTIMEZONE
END:VCALENDAR