BEGIN:VCALENDAR
VERSION:2.0
PRODID:-//wp-events-plugin.com//7.2.3.1//EN
TZID:America/New_York
X-WR-TIMEZONE:America/New_York
BEGIN:VEVENT
UID:176@cndf.qc.ca
DTSTART;TZID=America/New_York:20231028T130000
DTEND;TZID=America/New_York:20231028T130000
DTSTAMP:20231010T155300Z
URL:https://www.cndf.qc.ca/events/match-football-collegial-rseq-champlain-
 lennoxville-notre-dame-octobre-2023/
SUMMARY:Champlain-Lennoxville c. Notre-Dame
DESCRIPTION:Le huitième et dernier match de la saison régulière du Notre
 -Dame aura lieu au Stade des Anciens du Campus Notre-Dame-de-Foy. La visit
 e des Cougars du Collège de Champlain de Lennoxville sera l'occasion de r
 endre hommage aux finissants 2023 du Notre-Dame Football.\n\nBien qu'il so
 it toujours possible d'acheter des billets sur place\, nous vous encourage
 ons à vous les procurer à l'avance via le formulaire suivant :\n\n&nbsp\
 ;\n\nNous vous rappelons que vous avez jusqu’au 12 novembre pour partici
 per à la Loto Notre-Dame\, un moitié-moitié cumulatif. Procurez-vous vo
 s billets ici pour encourager les équipes sportives du Campus et faire au
 gmenter le montant de la cagnotte!
ATTACH;FMTTYPE=image/jpeg:https://www.cndf.qc.ca/wp-content/uploads/2025/0
 8/calendrier_lennoxville_vs_cndf-1320x564-1.png
CATEGORIES:Football
LOCATION:Campus Notre-Dame-de-Foy\, 5000\, rue Clément-Lockquell\, Saint-A
 ugustin-de-Desmaures\, Québec\, G3A 1B3\, Québec\, Canada
X-APPLE-STRUCTURED-LOCATION;VALUE=URI;X-ADDRESS=5000\, rue Clément-Lockque
 ll\, Saint-Augustin-de-Desmaures\, Québec\, G3A 1B3\, Québec\, Canada;X-
 APPLE-RADIUS=100;X-TITLE=Campus Notre-Dame-de-Foy:geo:0,0
END:VEVENT
BEGIN:VTIMEZONE
TZID:America/New_York
X-LIC-LOCATION:America/New_York
BEGIN:DAYLIGHT
DTSTART:20230312T030000
TZOFFSETFROM:-0500
TZOFFSETTO:-0400
TZNAME:EDT
END:DAYLIGHT
END:VTIMEZONE
END:VCALENDAR