BEGIN:VCALENDAR
VERSION:2.0
PRODID:-//wp-events-plugin.com//7.2.3.1//EN
TZID:America/New_York
X-WR-TIMEZONE:America/New_York
BEGIN:VEVENT
UID:237@cndf.qc.ca
DTSTART;TZID=America/New_York:20231104T130000
DTEND;TZID=America/New_York:20231104T130000
DTSTAMP:20231101T135249Z
URL:https://www.cndf.qc.ca/events/match-football-collegial-rseq-notre-dame
 -cegep-garneau-4-novembre-2023/
SUMMARY:Cégep Garneau c. Notre-Dame
DESCRIPTION:Lors match des quarts de finale de la saison de football collé
 gial D1\, le Notre-Dame affrontera les Élans du Cégep Garneau au Stade d
 es Anciens. Pour acheter votre billet\, cliquez ici.\n\nNous vous rappelon
 s que vous avez jusqu’au 12 novembre pour participer à la Loto Notre-Da
 me\, un moitié-moitié cumulatif. Procurez-vous vos billets ici pour enco
 urager les équipes sportives du Campus et faire augmenter le montant de l
 a cagnotte!
ATTACH;FMTTYPE=image/jpeg:https://www.cndf.qc.ca/wp-content/uploads/2021/0
 8/calendrier_cndf_vs_garneau.png
CATEGORIES:Football
LOCATION:Campus Notre-Dame-de-Foy (stade des Anciens)\, 5000\, rue Clément
 -Lockquell\, Saint-Augustin-de-Desmaures\, Québec\, G3A 1B3\, Canada
X-APPLE-STRUCTURED-LOCATION;VALUE=URI;X-ADDRESS=5000\, rue Clément-Lockque
 ll\, Saint-Augustin-de-Desmaures\, Québec\, G3A 1B3\, Canada;X-APPLE-RADI
 US=100;X-TITLE=Campus Notre-Dame-de-Foy (stade des Anciens):geo:0,0
END:VEVENT
BEGIN:VTIMEZONE
TZID:America/New_York
X-LIC-LOCATION:America/New_York
BEGIN:DAYLIGHT
DTSTART:20230312T030000
TZOFFSETFROM:-0500
TZOFFSETTO:-0400
TZNAME:EDT
END:DAYLIGHT
END:VTIMEZONE
END:VCALENDAR