BEGIN:VCALENDAR
VERSION:2.0
PRODID:-//wp-events-plugin.com//7.2.3.1//EN
TZID:America/New_York
X-WR-TIMEZONE:America/New_York
BEGIN:VEVENT
UID:174@cndf.qc.ca
DTSTART;TZID=America/New_York:20231014T130000
DTEND;TZID=America/New_York:20231014T130000
DTSTAMP:20231010T154146Z
URL:https://www.cndf.qc.ca/events/match-football-collegial-rseq-notre-dame
 -cegep-garneau-octobre-2023/
SUMMARY:Notre-Dame c. Garneau
DESCRIPTION:Lors de ce sixième match de la saison de football collégial d
 u RSEQ\, le Notre-Dame affrontera les Élans du Cégep Garneau.\n\nNous vo
 us rappelons que vous avez jusqu’au 12 novembre pour participer à la Lo
 to Notre-Dame\, un moitié-moitié cumulatif. Procurez-vous vos billets ic
 i pour encourager les équipes sportives du Campus et faire augmenter le m
 ontant de la cagnotte!\n\n&nbsp\;
ATTACH;FMTTYPE=image/jpeg:https://www.cndf.qc.ca/wp-content/uploads/2021/0
 8/calendrier_cndf_vs_garneau.png
CATEGORIES:Football
LOCATION:Cégep Garneau\, 1660\, boulevard de l'Entente\, Québec\, Québec
 \, G1S 4S3\, Canada
X-APPLE-STRUCTURED-LOCATION;VALUE=URI;X-ADDRESS=1660\, boulevard de l'Enten
 te\, Québec\, Québec\, G1S 4S3\, Canada;X-APPLE-RADIUS=100;X-TITLE=Cége
 p Garneau:geo:0,0
END:VEVENT
BEGIN:VTIMEZONE
TZID:America/New_York
X-LIC-LOCATION:America/New_York
BEGIN:DAYLIGHT
DTSTART:20230312T030000
TZOFFSETFROM:-0500
TZOFFSETTO:-0400
TZNAME:EDT
END:DAYLIGHT
END:VTIMEZONE
END:VCALENDAR