BEGIN:VCALENDAR
VERSION:2.0
PRODID:-//wp-events-plugin.com//7.2.3.1//EN
TZID:America/New_York
X-WR-TIMEZONE:America/New_York
BEGIN:VEVENT
UID:243@cndf.qc.ca
DTSTART;TZID=America/New_York:20240907T213000
DTEND;TZID=America/New_York:20240907T213000
DTSTAMP:20240905T192326Z
URL:https://www.cndf.qc.ca/events/match-football-notre-dame-cegep-vieux-mo
 ntreal-septembre-2024/
SUMMARY:Notre-Dame c. Cégep du Vieux Montréal
DESCRIPTION:Lors de ce deuxième match de la saison de football\, le Notre-
 Dame du Campus Notre-Dame-de-Foy affrontera les Spartiates du Cégep du Vi
 eux Montréal
ATTACH;FMTTYPE=image/jpeg:https://www.cndf.qc.ca/wp-content/uploads/2022/0
 7/calendrier_cndf_vs_vieux-montreal.png
CATEGORIES:Football,Sports
LOCATION:Cégep du Vieux Montréal\, 255 Rue Ontario E\, Montréal\, Québe
 c\, H2X 1X6\, Canada
X-APPLE-STRUCTURED-LOCATION;VALUE=URI;X-ADDRESS=255 Rue Ontario E\, Montré
 al\, Québec\, H2X 1X6\, Canada;X-APPLE-RADIUS=100;X-TITLE=Cégep du Vieux
  Montréal:geo:0,0
END:VEVENT
BEGIN:VTIMEZONE
TZID:America/New_York
X-LIC-LOCATION:America/New_York
BEGIN:DAYLIGHT
DTSTART:20240310T030000
TZOFFSETFROM:-0500
TZOFFSETTO:-0400
TZNAME:EDT
END:DAYLIGHT
END:VTIMEZONE
END:VCALENDAR